BEGIN:VCALENDAR
VERSION:2.0
PRODID:-//eventon.com NONSGML v1.0//EN
CALSCALE:GREGORIAN
METHOD:PUBLISH
BEGIN:VEVENT
UID:69e4c49b66d25
DTSTAMP:20260419T120339Z
DTSTART:20221210
DTEND:20221211
LOCATION:
SUMMARY:Invoice Submission Deadline for December Invoice Period
DESCRIPTION:Invoice Submission Deadline for December Invoice Period\nhttps:
 //illinoisshines.com/events/invoice-submission-deadline-for-december-invoic
 e-period/
URL:https://illinoisshines.com/events/invoice-submission-deadline-for-december-invoice-period/
END:VEVENT
END:VCALENDAR