BEGIN:VCALENDAR
VERSION:2.0
PRODID:-//eventon.com NONSGML v1.0//EN
CALSCALE:GREGORIAN
METHOD:PUBLISH
BEGIN:VEVENT
UID:69ea0cd4b5e90
DTSTAMP:20260423T121308Z
DTSTART:20221208T210000Z
DTEND:20221208T220000Z
LOCATION:
SUMMARY:Part II Application Reopening Webinar
DESCRIPTION:Join us for this stakeholder webinar\,  from 3:00 p.m. to 4:00 
 p.m. CPT\,  which will be recorded. No registration needed.\nhttps://illino
 isshines.com/events/part-ii-application-reopening-webinar/var/event_access
URL:https://illinoisshines.com/events/part-ii-application-reopening-webinar/var/event_access
END:VEVENT
END:VCALENDAR