BEGIN:VCALENDAR
VERSION:2.0
PRODID:-//eventon.com NONSGML v1.0//EN
CALSCALE:GREGORIAN
METHOD:PUBLISH
BEGIN:VEVENT
UID:69e8a23d84955
DTSTAMP:20260422T102605Z
DTSTART:20230328
DTEND:20230329
LOCATION:
SUMMARY:REC Price Modeling Update for Next Long-Term Plan - Public Comment Deadline
DESCRIPTION:The request for feedback can be found here: https://illinoissh
 ines.com/2023/03/07/independent-rec-pricing-review-request-for-written-comm
 ents/\nhttps://illinoisshines.com/events/rec-price-modeling-update-for-next
 -long-term-plan-public-comment-deadline/
URL:https://illinoisshines.com/events/rec-price-modeling-update-for-next-long-term-plan-public-comment-deadline/
END:VEVENT
END:VCALENDAR