BEGIN:VCALENDAR
VERSION:2.0
PRODID:-//eventon.com NONSGML v1.0//EN
CALSCALE:GREGORIAN
METHOD:PUBLISH
BEGIN:VEVENT
UID:69e4cc4be4eb3
DTSTAMP:20260419T123627Z
DTSTART:20230811T045900Z
DTEND:20230811T045900Z
LOCATION:
SUMMARY:August invoice submission deadline
DESCRIPTION:Deadline for submission of invoices to utility to receive payme
 nt for the July invoice period. Invoice amounts not submitted by August 10 
 will be carried forward and included in November 2023 invoice period.\nhttp
 s://illinoisshines.com/events/august-invoice-submission-deadline/
URL:https://illinoisshines.com/events/august-invoice-submission-deadline/
END:VEVENT
END:VCALENDAR