BEGIN:VCALENDAR
VERSION:2.0
PRODID:-//eventon.com NONSGML v1.0//EN
CALSCALE:GREGORIAN
METHOD:PUBLISH
BEGIN:VEVENT
UID:69e8afadf1e12
DTSTAMP:20260422T112325Z
DTSTART:20231018T150000Z
DTEND:20231018T160000Z
LOCATION:
SUMMARY:Office Hours
DESCRIPTION:Join us for open Office Hours support for stakeholders\nhttps:/
 /illinoisshines.com/events/office-hours-23/var/event_access
URL:https://illinoisshines.com/events/office-hours-23/var/event_access
END:VEVENT
END:VCALENDAR