BEGIN:VCALENDAR
VERSION:2.0
PRODID:-//eventon.com NONSGML v1.0//EN
CALSCALE:GREGORIAN
METHOD:PUBLISH
BEGIN:VEVENT
UID:69e4d11144593
DTSTAMP:20260419T125649Z
DTSTART:20240115
DTEND:20240116
LOCATION:
SUMMARY:Holiday
DESCRIPTION:Holiday\nhttps://illinoisshines.com/events/holiday-6/
URL:https://illinoisshines.com/events/holiday-6/
END:VEVENT
END:VCALENDAR