BEGIN:VCALENDAR
VERSION:2.0
PRODID:-//eventon.com NONSGML v1.0//EN
CALSCALE:GREGORIAN
METHOD:PUBLISH
BEGIN:VEVENT
UID:69ea06d767c0e
DTSTAMP:20260423T114735Z
DTSTART:20240214T160000Z
DTEND:20240214T170000Z
LOCATION:
SUMMARY:Office Hours
DESCRIPTION:Join us for open Office Hours support for stakeholders – Plea
 se see weekly Program announcement for Join link\nhttps://illinoisshines.co
 m/events/office-hours-40/
URL:https://illinoisshines.com/events/office-hours-40/
END:VEVENT
END:VCALENDAR