BEGIN:VCALENDAR
VERSION:2.0
PRODID:-//eventon.com NONSGML v1.0//EN
CALSCALE:GREGORIAN
METHOD:PUBLISH
BEGIN:VEVENT
UID:69e8b2912f6fe
DTSTAMP:20260422T113545Z
DTSTART:20241115
DTEND:20241116
LOCATION:
SUMMARY:Program Administrator Drawdown Calculations Complete on Annual Reports 
DESCRIPTION:Program Administrator Drawdown Calculations Complete on Annual 
 Reports \nhttps://illinoisshines.com/events/program-administrator-drawdown
 -calculations-complete-on-annual-reports/
URL:https://illinoisshines.com/events/program-administrator-drawdown-calculations-complete-on-annual-reports/
END:VEVENT
END:VCALENDAR