BEGIN:VCALENDAR
VERSION:2.0
PRODID:-//eventon.com NONSGML v1.0//EN
CALSCALE:GREGORIAN
METHOD:PUBLISH
BEGIN:VEVENT
UID:69e9f7625c6fa
DTSTAMP:20260423T104138Z
DTSTART:20241122
DTEND:20241123
LOCATION:
SUMMARY:Stakeholder Feedback on REC Price Cost Inputs – Due November 22 
DESCRIPTION:On October 31\,  2024\,  the Program released a Request for Sta
 keholder Feedback that seeks input on the approach the IPA plans to impleme
 nt in 2025 to collect cost data on projects participating in the Illinois S
 hines and Illinois Solar for All programs. Written responses to this reques
 t for feedback are[..]\nhttps://illinoisshines.com/events/stakeholder-feedb
 ack-on-rec-price-cost-inputs-due-november-22/
URL:https://illinoisshines.com/events/stakeholder-feedback-on-rec-price-cost-inputs-due-november-22/
END:VEVENT
END:VCALENDAR