BEGIN:VCALENDAR
VERSION:2.0
PRODID:-//eventon.com NONSGML v1.0//EN
CALSCALE:GREGORIAN
METHOD:PUBLISH
BEGIN:VEVENT
UID:69e4cdf60dd4a
DTSTAMP:20260419T124334Z
DTSTART:20250110T060000Z
DTEND:20250111T055000Z
LOCATION:
SUMMARY:January REC Invoicing Deadline 
DESCRIPTION:Invoices must be submitted to the utility by January 10\,  2025
  to receive payment for the January invoice period. Any invoice amounts not
  submitted to the utility by January 10\,  2025 will be carried forward and
  included in the next invoice period (April 2025). \nhttps://illinoisshine
 s.com/events/january-rec-invoicing-deadline/
URL:https://illinoisshines.com/events/january-rec-invoicing-deadline/
END:VEVENT
END:VCALENDAR