BEGIN:VCALENDAR
VERSION:2.0
PRODID:-//eventon.com NONSGML v1.0//EN
CALSCALE:GREGORIAN
METHOD:PUBLISH
BEGIN:VEVENT
UID:69e621e8df642
DTSTAMP:20260420T125400Z
DTSTART:20250217T060000Z
DTEND:20250218T055000Z
LOCATION:
SUMMARY:Holiday
DESCRIPTION:Holiday\nhttps://illinoisshines.com/events/holiday-21/
URL:https://illinoisshines.com/events/holiday-21/
END:VEVENT
END:VCALENDAR