BEGIN:VCALENDAR
VERSION:2.0
PRODID:-//eventon.com NONSGML v1.0//EN
CALSCALE:GREGORIAN
METHOD:PUBLISH
BEGIN:VEVENT
UID:69e62e14187df
DTSTAMP:20260420T134556Z
DTSTART:20250326
DTEND:20250327
LOCATION:
SUMMARY:Stakeholder Feedback Deadline on Draft Program Guidebook\,  Draft Consumer Protection documents\,  and Draft REC Prices for the 2025-26 Program Year
DESCRIPTION:On March 7\,  2025\,  the Program released the draft Program G
 uidebook\,  draft Consumer Protection documents\,  and draft REC Prices for
  the 2025-26 Program Year. The announcement details next steps in the Progr
 am Guidebook comment and updates process\,  as well as high-level changes t
 o the draft Program Guidebook\,  draft Consumer Protection documents\, [..]
 \nhttps://illinoisshines.com/events/stakeholder-feedback-deadline-on-draft-
 program-guidebook-draft-consumer-protection-documents-and-draft-rec-prices-
 for-the-2025-26-program-year/
URL:https://illinoisshines.com/events/stakeholder-feedback-deadline-on-draft-program-guidebook-draft-consumer-protection-documents-and-draft-rec-prices-for-the-2025-26-program-year/
END:VEVENT
END:VCALENDAR