BEGIN:VCALENDAR
VERSION:2.0
PRODID:-//eventon.com NONSGML v1.0//EN
CALSCALE:GREGORIAN
METHOD:PUBLISH
BEGIN:VEVENT
UID:69e4c2bf7c6cd
DTSTAMP:20260419T115543Z
DTSTART:20250624
DTEND:20250625
LOCATION:
SUMMARY:Part II Verification Cut Off for June 
DESCRIPTION:To allow time for invoice calculation and generation\,  the las
 t valid Part II Verification date for June will be June 24\,  2025. Applica
 tions that are Part II verified on or before June 24\,  2025 will be includ
 ed in the July invoicing period. Application processing will continue throu
 ghout the last week[..]\nhttps://illinoisshines.com/events/part-ii-verifica
 tion-cut-off-for-june/
URL:https://illinoisshines.com/events/part-ii-verification-cut-off-for-june/
END:VEVENT
END:VCALENDAR