BEGIN:VCALENDAR
VERSION:2.0
PRODID:-//eventon.com NONSGML v1.0//EN
CALSCALE:GREGORIAN
METHOD:PUBLISH
BEGIN:VEVENT
UID:69e5fcc4a4229
DTSTAMP:20260420T101532Z
DTSTART:20250715
DTEND:20250716
LOCATION:
SUMMARY:Annual Report Response Period Ends (for AVs that have not signed REC Contract Amendment) 
DESCRIPTION:Annual Report Response Period ends for AVs that have not signed
  REC Contract Amendment. This is the deadline to submit Annual Report respo
 nses. Not filing an Annual Report by the deadline may jeopardize an Approve
 d Vendors standing in the Program.  \nhttps://illinoisshines.com/events/a
 nnual-report-response-period-ends-for-avs-that-have-not-signed-rec-contract
 -amendment/
URL:https://illinoisshines.com/events/annual-report-response-period-ends-for-avs-that-have-not-signed-rec-contract-amendment/
END:VEVENT
END:VCALENDAR