BEGIN:VCALENDAR
VERSION:2.0
PRODID:-//eventon.com NONSGML v1.0//EN
CALSCALE:GREGORIAN
METHOD:PUBLISH
BEGIN:VEVENT
UID:69e8a2faf22f2
DTSTAMP:20260422T102914Z
DTSTART:20251208
DTEND:20251209
LOCATION:
SUMMARY:Public Schools AV Roundtable 
DESCRIPTION:Contact Program Administrator for details.\nhttps://illinoisshi
 nes.com/events/public-schools-av-roundtable-2/
URL:https://illinoisshines.com/events/public-schools-av-roundtable-2/
END:VEVENT
END:VCALENDAR