BEGIN:VCALENDAR
VERSION:2.0
PRODID:-//eventon.com NONSGML v1.0//EN
CALSCALE:GREGORIAN
METHOD:PUBLISH
BEGIN:VEVENT
UID:69e4cc83e63e3
DTSTAMP:20260419T123723Z
DTSTART:20260303
DTEND:20260304
LOCATION:
SUMMARY:Re-Batching Opens for AVs (For March 19\,  2026 ICC Meeting) 
DESCRIPTION:Re-Batching Opens for AVs (For March 19\,  2026 ICC Meeting) \
 nhttps://illinoisshines.com/events/re-batching-opens-for-avs-for-march-19-2
 026-icc-meeting/
URL:https://illinoisshines.com/events/re-batching-opens-for-avs-for-march-19-2026-icc-meeting/
END:VEVENT
END:VCALENDAR