BEGIN:VCALENDAR
VERSION:2.0
PRODID:-//eventon.com NONSGML v1.0//EN
CALSCALE:GREGORIAN
METHOD:PUBLISH
BEGIN:VEVENT
UID:69e4ce0021ebf
DTSTAMP:20260419T124344Z
DTSTART:20260409
DTEND:20260410
LOCATION:
SUMMARY:Election Deadline – Project Re-Batch or Withdrawal (For April 23\,  2026 ICC Meeting) 
DESCRIPTION:Election Deadline – Project Re-Batch or Withdrawal (For April
  23\,  2026 ICC Meeting) \nhttps://illinoisshines.com/events/election-dead
 line-project-re-batch-or-withdrawal-for-april-23-2026-icc-meeting/
URL:https://illinoisshines.com/events/election-deadline-project-re-batch-or-withdrawal-for-april-23-2026-icc-meeting/
END:VEVENT
END:VCALENDAR