BEGIN:VCALENDAR
VERSION:2.0
PRODID:-//eventon.com NONSGML v1.0//EN
CALSCALE:GREGORIAN
METHOD:PUBLISH
BEGIN:VEVENT
UID:69e4cf582206a
DTSTAMP:20260419T124928Z
DTSTART:20260423
DTEND:20260424
LOCATION:
SUMMARY:Election Deadline – Project Re-Batch or Withdrawal (For May 7\,  2026 ICC Meeting) 
DESCRIPTION:Election Deadline – Project Re-Batch or Withdrawal (For May 7
 \,  2026 ICC Meeting) \nhttps://illinoisshines.com/events/election-deadlin
 e-project-re-batch-or-withdrawal-for-may-7-2026-icc-meeting/
URL:https://illinoisshines.com/events/election-deadline-project-re-batch-or-withdrawal-for-may-7-2026-icc-meeting/
END:VEVENT
END:VCALENDAR