BEGIN:VCALENDAR
VERSION:2.0
PRODID:-//eventon.com NONSGML v1.0//EN
CALSCALE:GREGORIAN
METHOD:PUBLISH
BEGIN:VEVENT
UID:69e4cc943e621
DTSTAMP:20260419T123740Z
DTSTART:20260505
DTEND:20260506
LOCATION:
SUMMARY:Re-Batching Opens for AVs (For May 21\,  2026 ICC Meeting) 
DESCRIPTION:Re-Batching Opens for AVs (For May 21\,  2026 ICC Meeting) \nh
 ttps://illinoisshines.com/events/re-batching-opens-for-avs-for-may-21-2026-
 icc-meeting/
URL:https://illinoisshines.com/events/re-batching-opens-for-avs-for-may-21-2026-icc-meeting/
END:VEVENT
END:VCALENDAR