BEGIN:VCALENDAR
VERSION:2.0
PRODID:-//eventon.com NONSGML v1.0//EN
CALSCALE:GREGORIAN
METHOD:PUBLISH
BEGIN:VEVENT
UID:69e4cd2397f9d
DTSTAMP:20260419T124003Z
DTSTART:20260629
DTEND:20260630
LOCATION:
SUMMARY:Re-Batching Opens for AVs (For July 16\,  2026 ICC Meeting) 
DESCRIPTION:Re-Batching Opens for AVs (For July 16\,  2026 ICC Meeting) \n
 https://illinoisshines.com/events/re-batching-opens-for-avs-for-july-16-202
 6-icc-meeting/
URL:https://illinoisshines.com/events/re-batching-opens-for-avs-for-july-16-2026-icc-meeting/
END:VEVENT
END:VCALENDAR