BEGIN:VCALENDAR
VERSION:2.0
PRODID:-//eventon.com NONSGML v1.0//EN
CALSCALE:GREGORIAN
METHOD:PUBLISH
BEGIN:VEVENT
UID:69eca162d5802
DTSTAMP:20260425T111130Z
DTSTART:20260803
DTEND:20260804
LOCATION:
SUMMARY:Re-Batching Opens for AVs (For August 19\,  2026 ICC Meeting) 
DESCRIPTION:Re-Batching Opens for AVs (For August 19\,  2026 ICC Meeting) 
 \nhttps://illinoisshines.com/events/re-batching-opens-for-avs-for-august-19
 -2026-icc-meeting/
URL:https://illinoisshines.com/events/re-batching-opens-for-avs-for-august-19-2026-icc-meeting/
END:VEVENT
END:VCALENDAR