BEGIN:VCALENDAR
VERSION:2.0
PRODID:-//eventon.com NONSGML v1.0//EN
CALSCALE:GREGORIAN
METHOD:PUBLISH
BEGIN:VEVENT
UID:69e4cc7a7be09
DTSTAMP:20260419T123714Z
DTSTART:20260805
DTEND:20260806
LOCATION:
SUMMARY:Election Deadline – Project Re-Batch or Withdrawal (For August 19\,  2026 ICC Meeting) 
DESCRIPTION:Election Deadline – Project Re-Batch or Withdrawal (For Augus
 t 19\,  2026 ICC Meeting) \nhttps://illinoisshines.com/events/election-dea
 dline-project-re-batch-or-withdrawal-for-august-19-2026-icc-meeting/
URL:https://illinoisshines.com/events/election-deadline-project-re-batch-or-withdrawal-for-august-19-2026-icc-meeting/
END:VEVENT
END:VCALENDAR