BEGIN:VCALENDAR
VERSION:2.0
PRODID:-//eventon.com NONSGML v1.0//EN
CALSCALE:GREGORIAN
METHOD:PUBLISH
BEGIN:VEVENT
UID:69e4e2dbaa6e9
DTSTAMP:20260419T141243Z
DTSTART:20260824
DTEND:20260825
LOCATION:
SUMMARY:Re-Batching Opens for AVs (For September 10\,  2026 ICC Meeting) 
DESCRIPTION:Re-Batching Opens for AVs (For September 10\,  2026 ICC Meeting
 ) \nhttps://illinoisshines.com/events/re-batching-opens-for-avs-for-septem
 ber-10-2026-icc-meeting/
URL:https://illinoisshines.com/events/re-batching-opens-for-avs-for-september-10-2026-icc-meeting/
END:VEVENT
END:VCALENDAR