BEGIN:VCALENDAR
VERSION:2.0
PRODID:-//eventon.com NONSGML v1.0//EN
CALSCALE:GREGORIAN
METHOD:PUBLISH
BEGIN:VEVENT
UID:69e4cd0ecc0fe
DTSTAMP:20260419T123942Z
DTSTART:20260804
DTEND:20260805
LOCATION:
SUMMARY:Annual Report Cure Period begins (For AVs That HAVE Signed the REC Contract Amendment)
DESCRIPTION:Program Administrator will contact AVs to cure any report discr
 epancies. Annual Reports that were not submitted during the preceding res
 ponse period will not be accepted during this time. The cure period is limi
 ted to the curing of issues identified in already submitted Annual Repo
 rts.   \nhttps://illinoisshines.com/events/annual-report-cure-period-be
 gins-for-avs-that-have-signed-the-rec-contract-amendment/
URL:https://illinoisshines.com/events/annual-report-cure-period-begins-for-avs-that-have-signed-the-rec-contract-amendment/
END:VEVENT
END:VCALENDAR