BEGIN:VCALENDAR
VERSION:2.0
PRODID:-//eventon.com NONSGML v1.0//EN
CALSCALE:GREGORIAN
METHOD:PUBLISH
BEGIN:VEVENT
UID:69e4e0b1c23c2
DTSTAMP:20260419T140329Z
DTSTART:20260716
DTEND:20260717
LOCATION:
SUMMARY:Annual Report Cure Period begins (For AVs That Have NOT  Signed the REC Contract Amendment) 
DESCRIPTION:Program Administrator will contact AVs to cure any report discr
 epancies. Annual Reports that were not submitted during the preceding res
 ponse period will not be accepted during this time. The cure period is limi
 ted to the curing of issues identified in already submitted Annual Repo
 rts.   \nhttps://illinoisshines.com/events/annual-report-cure-period-be
 gins-for-avs-that-have-not-signed-the-rec-contract-amendment/
URL:https://illinoisshines.com/events/annual-report-cure-period-begins-for-avs-that-have-not-signed-the-rec-contract-amendment/
END:VEVENT
END:VCALENDAR